BEGIN:VCALENDAR
VERSION:2.0
PRODID:-//Northern Ski Team - ECPv6.15.20//NONSGML v1.0//EN
CALSCALE:GREGORIAN
METHOD:PUBLISH
X-ORIGINAL-URL:https://www.northernskiteam.co.nz
X-WR-CALDESC:Events for Northern Ski Team
REFRESH-INTERVAL;VALUE=DURATION:PT1H
X-Robots-Tag:noindex
X-PUBLISHED-TTL:PT1H
BEGIN:VTIMEZONE
TZID:Pacific/Auckland
BEGIN:STANDARD
TZOFFSETFROM:+1300
TZOFFSETTO:+1200
TZNAME:NZST
DTSTART:20220402T140000
END:STANDARD
BEGIN:DAYLIGHT
TZOFFSETFROM:+1200
TZOFFSETTO:+1300
TZNAME:NZDT
DTSTART:20220924T140000
END:DAYLIGHT
BEGIN:STANDARD
TZOFFSETFROM:+1300
TZOFFSETTO:+1200
TZNAME:NZST
DTSTART:20230401T140000
END:STANDARD
BEGIN:DAYLIGHT
TZOFFSETFROM:+1200
TZOFFSETTO:+1300
TZNAME:NZDT
DTSTART:20230923T140000
END:DAYLIGHT
BEGIN:STANDARD
TZOFFSETFROM:+1300
TZOFFSETTO:+1200
TZNAME:NZST
DTSTART:20240406T140000
END:STANDARD
BEGIN:DAYLIGHT
TZOFFSETFROM:+1200
TZOFFSETTO:+1300
TZNAME:NZDT
DTSTART:20240928T140000
END:DAYLIGHT
BEGIN:STANDARD
TZOFFSETFROM:+1300
TZOFFSETTO:+1200
TZNAME:NZST
DTSTART:20250405T140000
END:STANDARD
BEGIN:DAYLIGHT
TZOFFSETFROM:+1200
TZOFFSETTO:+1300
TZNAME:NZDT
DTSTART:20250927T140000
END:DAYLIGHT
BEGIN:STANDARD
TZOFFSETFROM:+1300
TZOFFSETTO:+1200
TZNAME:NZST
DTSTART:20260404T140000
END:STANDARD
BEGIN:DAYLIGHT
TZOFFSETFROM:+1200
TZOFFSETTO:+1300
TZNAME:NZDT
DTSTART:20260926T140000
END:DAYLIGHT
BEGIN:STANDARD
TZOFFSETFROM:+1300
TZOFFSETTO:+1200
TZNAME:NZST
DTSTART:20270403T140000
END:STANDARD
BEGIN:DAYLIGHT
TZOFFSETFROM:+1200
TZOFFSETTO:+1300
TZNAME:NZDT
DTSTART:20270925T140000
END:DAYLIGHT
END:VTIMEZONE
BEGIN:VEVENT
DTSTART;TZID=Pacific/Auckland:20230105T000000
DTEND;TZID=Pacific/Auckland:20230118T235959
DTSTAMP:20260426T044212
CREATED:20220731T032615Z
LAST-MODIFIED:20221210T194457Z
UID:6517-1672876800-1674086399@www.northernskiteam.co.nz
SUMMARY:January 2023 Canada Camp @ Panorama Mountain Resort
DESCRIPTION:Accommodation & Lift Pass Packages\n\n\n\nThe below packages include accommodation\, Panorama Lift Passes and return airport transfers from Calgary airport to Panorama Resort for the specified  dates and number of people. \n\n\n\nA small caveat here being that accommodation and lift passes packages must be purchased through our agency (a requirement put forward to us by Panorama Mountain Resort). You are welcome to arrange your own flights and pre/post camp travel arrangements\, or our agency can assist you with booking the entire package! \n\n\n\nPackage costs are approximate and subject to change. \n\n\n\nTaynton Lodge (4-Star equivalent)\n\n\n\n\n2-bedroom(1 x King bed\, 2 x Single beds\, 1 x Queen sofa bed\, sleeps 6 PAX)\n\n2 week option: 4-18 January 2023\n\n1 Adult + 2 Children (12 & Under) = $9350.00\n\n\n\n2 Adults + 2 Children (12 & Under) = $10408.00\n\n\n\n\n\n1 week option: 4-11 January 2023\n\n1 Adult + 2 Children (12 & Under) = $5334.00\n\n\n\n2 Adults + 2 Children (12 & Under) = $6068.00\n\n\n\n\n\n1 week option: 11-18 January 2023\n\n1 Adult + 2 Children (12 & Under) = $5024.00\n\n\n\n2 Adults + 2 Children (12 & Under) = $5754.00\n\n\n\n\n\n\n\n1-bedroom(1 x King bed\, 2 x Single beds\, 1 x Queen sofa bed\, sleeps 4 PAX)\n\n2 week option: 4-18 January 2023\n\n1 Adult + 2 Children (12 & Under) = $8743.00\n\n\n\n2 Adults + 2 Children (12 & Under) = $7684.00\n\n\n\n\n\n1 week option: 4-11 January 2023\n\n1 Adult + 2 Children (12 & Under) = $4467.00\n\n\n\n2 Adults + 2 Children (12 & Under) = $5198.00\n\n\n\n\n\n1 week option: 11-18 January 2023\n\n1 Adult + 2 Children (12 & Under) = $4229.00\n\n\n\n2 Adults + 2 Children (12 & Under) = $4956.00\n\n\n\n\n\n\n\n\nHorsethief or Toby Creek Lodge (3-Star equivalent)\n\n\n\n\n2-bedroom(1 x Queen bed\, 2 x Single beds\, 1 x Queen sofa bed\, sleeps 6 PAX)\n\n2 week option: 4-18 January 2023\n\n1 Adult + 2 Children (12 & Under) = $8082.00\n\n\n\n2 Adults + 2 Children (12 & Under) = $9143.00\n\n\n\n\n\n1 week option: 4-11 January 2023\n\n1 Adult + 2 Children (12 & Under) = $4673.00\n\n\n\n2 Adults + 2 Children (12 & Under) = $5404.00\n\n\n\n\n\n1 week option: 11-18 January 2023\n\n1 Adult + 2 Children (12 & Under) = $4422.00\n\n\n\n2 Adults + 2 Children (12 & Under) = $5153.00\n\n\n\n\n\n\n\n\nSlopeside Inn (2-Star equivalent – Hotel Room)\n\n\n\n\nStudio Hotel Room(2 x Queen beds\, sleeps 4 PAX)\n\n2 week option: 4-18 January 2023\n\n1 Adult + 2 Children (12 & Under) = $5568.00\n\n\n\n2 Adults + 2 Children (12 & Under) = $6626.00\n\n\n\n\n\n1 week option: 4-11 January 2023\n\n1 Adult + 2 Children (12 & Under) = $3357.00\n\n\n\n2 Adults + 2 Children (12 & Under) = $4088.00\n\n\n\n\n\n1 week option: 11-18 January 2023\n\n1 Adult + 2 Children (12 & Under) = $3223.00\n\n\n\n2 Adults + 2 Children (12 & Under) = $3954.00\n\n\n\n\n\n\n\n\n\n\n\n\nCoaching Overview & Fees\n\n\n\n\nThe camp will include 14 days of consecutive coaching from 5th-18th January 2022\n\n\n\nCoaching will include GS and/or SL lane training on all days except Saturdays (resort does not allow lanes on Saturdays)\n\n\n\nCamp will include use of video analysis\, ski data analysis and wireless timing system\n\n\n\nMaximum ratio of ten athletes per coach\n\n\n\nCoaching Fee = $160/day per athlete\n\n\n\n\n\n\n\n\nChaperone Option\n\n\n\n\nApproximately $220.00 per night (to be confirmed)\n\n\n\nIncludes ground transport\, accommodation\, meals\n\n\n\nExcludes: coaching fees\, flights\, insurance\, and spending money\n\n\n\nStrictly limited spaces available for 3 athletes only
URL:https://www.northernskiteam.co.nz/calendar/january-2023-panorama/
CATEGORIES:International
END:VEVENT
BEGIN:VEVENT
DTSTART;TZID=Pacific/Auckland:20230811T000000
DTEND;TZID=Pacific/Auckland:20230813T235959
DTSTAMP:20260426T044212
CREATED:20230803T185348Z
LAST-MODIFIED:20230809T203700Z
UID:6599-1691712000-1691971199@www.northernskiteam.co.nz
SUMMARY:Coronet Peak - National Points (U14+)
DESCRIPTION:Our first National Points race weekend for the 2023 season will be at Coronet Peak from the 12th-13th August 2023\, preceded by a training day at The Remarkables on Friday 11th August. \n\n\n\nCoaches in attendance for this weekend will be Adrian and Duane. \n\n\n\n\n\n\n\nRace Registration\n\n\n\nFirstly\, a reminder to ensure athletes hold a current SSNZ Alpine National Points Membership.Race registrations must be completed by each athlete via the SSNZ Coronet National Points event page. Race registrations close at 6.00pm on Wednesday 9th August. \n\n\n\n\n\n\n\nCoaching/Representation Fees\n\n\n\n\n\nThursday 10th August(Training day at The Remarkables)$140.00Friday 11th August(Training day at The Remarkables)$140.00Saturday 12th August(Giant Slalom Race Day at Coronet Peak)$140.00Sunday 13th August(Slalom Race Day at Coronet Peak)$140.00\n\n\n\n\n\n\nRegister Now\n\n\n\n\n\n\n\n\nChaperone Options\n\n\n\nChaperone options is available for this weekend at a cost of $150 per night and includes accommodation\, meals and ground transport in Queenstown. The chaperone option is available to be selected when registering via the above link
URL:https://www.northernskiteam.co.nz/calendar/coronet-point-national-points-2023/
CATEGORIES:South Island
END:VEVENT
BEGIN:VEVENT
DTSTART;TZID=Pacific/Auckland:20230818T080000
DTEND;TZID=Pacific/Auckland:20230820T170000
DTSTAMP:20260426T044212
CREATED:20230809T203821Z
LAST-MODIFIED:20230819T073711Z
UID:7335-1692345600-1692550800@www.northernskiteam.co.nz
SUMMARY:Whakapapa - Waimarino Trophy & North Island Championships
DESCRIPTION:EVENT RESULTS (Provisional)\n\n\n\n\nWaimarino Giant Slalom Results\n\n\n\nWaimarino Slalom Results\n\n\n\nOverall Waimarino Results (U14+ Combined GS & SL)\n\n\n\n\n\n\n\n\n\nNorth Island Giant Slalom Results\n\n\n\nWaimarino Slalom Results\n\n\n\nOverall Waimarino Results (U14+ Combined GS & SL)\n\n\n\n\n\n\n\n\nIn collaboration with the team at Mt Ruapehu\, we are excited to be hosting the return of SSNZ sanctioned race events at Mt Ruapehu for the first time since 2019! \n\n\n\nCoaches in attendance for this weekend will include Adrian\, Justin\, Nick & Duane. \n\n\n\nWe plan to maximise athlete benefits from this weekend by offering race training opportunities in addition to the race event itself. \n\n\n\nWhat does this look like? \n\n\n\n\nFriday training day (optional) – In preparation for the races\, we’re running a fuill day of race training on Friday 18th August. The option can be selected when completing your registration\n\n\n\nSaturday & Sunday training courses – The expected athletes numbers means the race should finish early in the day (all going to plan)\, which allows us to continue using the race course for an afternoon race training session of 1.5-2 hours prior to prizegiving.\n\n\n\n\nAs always\, the above is dependent on weather\, snow and operational conditions over the weekend. \n\n\n\n\n\n\n\nRace Details\n\n\n\nPlease view the Race Notices on the SSNZ North Island Championships and Waimarino Trophy Junior Interfield event page for full information\, including: \n\n\n\n\nDiscounted Mt Ruapehu Day Passes for competing athletes\n\n\n\nRace schedule\n\n\n\nRace registrations\n\n\n\nWhatsApp group for race day updates\n\n\n\n\n\n\n\n\nRace Registration\n\n\n\nRace registrations must be completed by each athlete via the SSNZ North Island Championships and Waimarino Trophy Junior Interfield event page. Race registrations close at midday on Thursday 17th August. \n\n\n\n\n\n\n\nCoaching/Representation Fees\n\n\n\n\n\nFriday 18th August(Training day at Whakapapa)$140.00Saturday 19th August(Giant Slalom Race Day at Whakapapa\, plus training)$140.00Sunday 20th August(Slalom Race Day at Whakapapa\, plus training)$140.00\n\n\n\n\n\n\nRegister Now\n\n\n\n\n\n\n\n\nChaperone Options\n\n\n\nLimited chaperone options are available for this weekend at a cost of $140 per night and includes accommodation\, meals and ground transport.
URL:https://www.northernskiteam.co.nz/calendar/whakapapa-waimarino-trophy-north-island-championships/
CATEGORIES:Mt Ruapehu
END:VEVENT
BEGIN:VEVENT
DTSTART;TZID=Pacific/Auckland:20230831T080000
DTEND;TZID=Pacific/Auckland:20230903T170000
DTSTAMP:20260426T044212
CREATED:20230823T043526Z
LAST-MODIFIED:20230823T043836Z
UID:7398-1693468800-1693760400@www.northernskiteam.co.nz
SUMMARY:Mt Hutt - National Points (U14+)
DESCRIPTION:Our second National Points race weekend for the 2023 season will be at Mt Hutt from the 1st-3rd September 2023\, preceded by a training day at Mt Hutt on Thursday 31st August. \n\n\n\nCoaches in attendance for this weekend will be Adrian and Duane. \n\n\n\n\n\n\n\nRace Registration\n\n\n\nFirstly\, a reminder to ensure athletes hold a current SSNZ Alpine National Points Membership.Race registrations must be completed by each athlete via the SSNZ Mt Hutt National Points event page. Race registrations close at 3.00pm on Wednesday 30th August. \n\n\n\n\n\n\n\nCoaching/Representation Fees\n\n\n\n\n\nThursday 31st August(Training day at Mt Hutt)$140.00Friday 1st September(Super G Race Day at Mt Hutt)$140.00Saturday 2nd September(Giant Slalom Race Day at Mt Hutt)$140.00Sunday 3rd September(Slalom Race Day at Mt Hutt)$140.00\n\n\n\n\n\n\nRegister Now\n\n\n\n\n\n\n\n\nChaperone Options\n\n\n\nChaperone options is available for this weekend at a cost of $150 per night and includes accommodation\, meals and ground transport in Methven. The chaperone option is available to be selected when registering via the above link.
URL:https://www.northernskiteam.co.nz/calendar/mt-hutt-national-points-u14/
CATEGORIES:South Island
END:VEVENT
BEGIN:VEVENT
DTSTART;TZID=Pacific/Auckland:20230908T080000
DTEND;TZID=Pacific/Auckland:20230910T170000
DTSTAMP:20260426T044212
CREATED:20230829T191540Z
LAST-MODIFIED:20230829T205546Z
UID:7432-1694160000-1694365200@www.northernskiteam.co.nz
SUMMARY:Mt Hutt - Junior Interfield South Island Championships
DESCRIPTION:One of our favourite junior events of the winter season\, we’ll be at Mt Hutt for the Junior Interfield South Island Championships from the 9th-10th September 2023\, preceded by a lane training day at Mt Hutt on Friday 8th September. \n\n\n\nCoaches in attendance for this weekend will be Adrian\, Nick and Duane. \n\n\n\n\n\n\n\nRace Registration\n\n\n\nRace registrations must be completed by each athlete via the SSNZ Mt Hutt | Junior Interfield South Island Championships page. Race registrations close at 3.00pm on Wednesday 6th September. \n\n\n\n\n\n\n\nCoaching/Representation Fees\n\n\n\n\n\nFriday 8th September(Lane Training Day at Mt Hutt)$140.00Saturday 9th September(Giant Slalom Race Day at Mt Hutt)$140.00Sunday 10th September(Slalom Race Day at Mt Hutt)$140.00\n\n\n\n\n\n\nRegister Now\n\n\n\n\n\n\n\n\nAccommodation Options\n\n\n\nWe have 15 x rooms reserved for us at Barkers Lodge in Methven for which we are managing the room allocations. For those that haven’t stayed with us at Barkers Lodge before\, it is very comfortable and all rooms have their own ensuites. Each family will have their own room \n\n\n\nThe cost is $50pp per night and includes a continental breakfast each morning. \n\n\n\nClick the ‘Register Now’ button above and their is an option to request and reserved accommodation. \n\n\n\n\n\n\n\nChaperone Options\n\n\n\nChaperone options are available for this weekend at a cost of $150 per night and includes accommodation\, meals and ground transport in Methven. The chaperone option is available to be selected when registering via the above link.
URL:https://www.northernskiteam.co.nz/calendar/mt-hutt-junior-interfield-south-island-championships/
CATEGORIES:South Island
END:VEVENT
BEGIN:VEVENT
DTSTART;TZID=Pacific/Auckland:20230911T080000
DTEND;TZID=Pacific/Auckland:20230915T170000
DTSTAMP:20260426T044212
CREATED:20230830T225351Z
LAST-MODIFIED:20230831T224722Z
UID:7442-1694419200-1694797200@www.northernskiteam.co.nz
SUMMARY:2023 SIXT Schools Alpine Comp
DESCRIPTION:As proud supporters of the 2023 Schools Alpine Comp\, Northern Ski team are offering the option of lane training exclusively to Northern Ski Team registered athletes on Monday 11th and Tuesday 12th September. \n\n\n\nDepending on snow and operational conditions\, the training will be held at either Coronet Peak or The Remarkables. \n\n\n\nCoaches in attendance for this weekend will be Adrian\, Nick (additional coaches will be added as required) \n\n\n\nKey Details: \n\n\n\n\nAthlete training fees: $140.00 per day\n\n\n\nMorning session (timing TBC): Approx. 2.5 hours of training in a training lane\n\n\n\nAfternoon session: Approx. 1.5 hours of ‘skills and drills’\n\n\n\nOn completion of registration\, we will invite you to join our dedicated TeamReach group where we will share training updates \n\n\n\n\nAthlete Eligibility \n\n\n\n\nRegistration for this training is exclusively for registered Northern Ski Team athletes.\n\n\n\nPlease contact us if you have any questions regarding eligibility – theteam@northernskiteam.co.nz\n\n\n\n\n\n\n\n\nFull Event Information\n\n\n\nFull information can be found on the 2023 SIXT Schools Alpine Comp website. \n\n\n\n\n\n\n\nCoaching/Representation Fees\n\n\n\n\n\nMonday 11th September(Lane Training Day – Location TBC)$140.00Tuesday 12th September(Lane Training Day – Location TBC)$140.00\n\n\n\n\n\n\nRegister Now
URL:https://www.northernskiteam.co.nz/calendar/2023-sixt-schools-alpine-comp/
CATEGORIES:South Island
END:VEVENT
BEGIN:VEVENT
DTSTART;TZID=Pacific/Auckland:20240101T080000
DTEND;TZID=Pacific/Auckland:20240120T170000
DTSTAMP:20260426T044212
CREATED:20230726T200249Z
LAST-MODIFIED:20230726T200253Z
UID:7205-1704096000-1705770000@www.northernskiteam.co.nz
SUMMARY:January 2024 Canada Camp @ Panorama Mountain Resort
DESCRIPTION:
URL:https://www.northernskiteam.co.nz/calendar/january-2024-canada-camp-panorama-mountain-resort/
CATEGORIES:International
END:VEVENT
BEGIN:VEVENT
DTSTART;TZID=Pacific/Auckland:20240921T000000
DTEND;TZID=Pacific/Auckland:20240924T235959
DTSTAMP:20260426T044212
CREATED:20240913T060552Z
LAST-MODIFIED:20240923T095649Z
UID:8403-1726876800-1727222399@www.northernskiteam.co.nz
SUMMARY:2024 Schools Alpine Comp (Training Days)
DESCRIPTION:Northern Ski Team are offering lane training opportunities for athletes on Saturday 21st\, Sunday 22nd\, Monday 23rd and Tuesday 24th September at THE REMARKABLES. \n\n\n\nThe coaching team will be lead by Nick Sheetz (with extra coaches as required). \n\n\n\nKey Details: \n\n\n\n\nAthlete training fees: $145.00 per day\n\n\n\nMorning session (timing TBC): Approx. 2 hours of training in a Giant Slalom lane on Alta Blue\n\n\n\nAfternoon session: Approx. 1.5 hours of ‘skills and drills’\n\n\n\nOn completion of registration\, you will get an invitation from us to join our dedicated WhatsApp group where we will share training updates\n\n\n\n\nAthlete Eligibility \n\n\n\n\nRegistration for this training is for any athlete\, where their school team includes at least one registered Northern Ski Team athlete (the individual athletes do not all need to be Northern Ski Team athletes)\n\n\n\nPlease contact us if you have any questions about eligibility – theteam@northernskiteam.co.nz\n\n\n\n\n\n\n\n\nFull Event Information\n\n\n\nFull information can be found on the 2024 Schools Alpine Comp website. \n\n\n\n\n\n\n\nCoaching Fees\n\n\n\n\n\nSaturday 21st SeptemberLane Training Day @ The Remarkables (Alta Blue)$145.00Sunday 22nd SeptemberLane Training Day @ The Remarkables (Alta Blue)$145.00Monday 23rd SeptemberLane Training Day @ The Remarkables (Alta Blue)$145.00NEW – Tuesday 24th SeptemberLane Training Day @ The Remarkables (Alta Blue)$145.00\n\n\n\n\n\n\nRegister Now
URL:https://www.northernskiteam.co.nz/calendar/2024-schools-alpine-comp/
CATEGORIES:South Island
ATTACH;FMTTYPE=image/png:https://www.northernskiteam.co.nz/wp-content/uploads/2024/09/2024-Schools-alpine-comp-training-days.png
END:VEVENT
BEGIN:VEVENT
DTSTART;TZID=Pacific/Auckland:20240927T000000
DTEND;TZID=Pacific/Auckland:20240930T235959
DTSTAMP:20260426T044212
CREATED:20240924T034808Z
LAST-MODIFIED:20240924T035940Z
UID:8489-1727395200-1727740799@www.northernskiteam.co.nz
SUMMARY:Mt Hutt - Junior Interfield South Island Championships + National Points
DESCRIPTION:One of our favourite junior events of the winter season\, we’ll be at Mt Hutt for the Junior Interfield South Island Championships from the 28th-29th September 2024\, preceded by a lane training day at Mt Hutt on Friday 27th September\, and followed by the postponed National Points Slalom Race on Monday 30th September. \n\n\n\nCoaches in attendance for this weekend will be Adrian\, Nick and Duane. \n\n\n\n\n\n\n\nRace Registration\n\n\n\nRace registrations must be completed by each athlete via the SSNZ Mt Hutt | Junior Interfield South Island Championships page. Race registrations close at 3.00pm TOMORROW (Wednesday 25th September). \n\n\n\n\n\n\n\nCoaching/Representation Fees\n\n\n\n\n\nFriday 27th September(Lane Training Day at Mt Hutt)$145.00Saturday 28th September(Slalom Race Day at Mt Hutt)$145.00Sunday 29th September(Giant Slalom Race Day at Mt Hutt)$145.00Monday 30th September(National Points Race Day at Mt Hutt – U14 & older)$145.00\n\n\n\n\n\n\nRegister Now\n\n\n\n\n\n\n\n\nAccommodation Options\n\n\n\nWe have rooms reserved for us at Barkers Lodge in Methven. For those that haven’t stayed with us at Barkers Lodge before\, it is very comfortable and all rooms have their own ensuites. Each family will have their own room \n\n\n\nThe cost is approximately $60pp per night and includes a continental breakfast each morning. \n\n\n\nPlease contact Barkers Lodge directly via email to book in – reception@barkerslodge.co.nz \n\n\n\n\n\n\n\nChaperone Options\n\n\n\nChaperone options are available for this weekend at a cost of $160 per night and includes accommodation\, meals and ground transport in Methven. The chaperone option is available to be selected when registering via the above link.
URL:https://www.northernskiteam.co.nz/calendar/mt-hutt-junior-interfield-south-island-championships-national-points/
CATEGORIES:South Island
ATTACH;FMTTYPE=image/png:https://www.northernskiteam.co.nz/wp-content/uploads/2024/09/2024-Mt-Hutt-junior-interfield-south-island-championships-SL-national-points.png
END:VEVENT
BEGIN:VEVENT
DTSTART;TZID=Pacific/Auckland:20241001T000000
DTEND;TZID=Pacific/Auckland:20241006T235959
DTSTAMP:20260426T044212
CREATED:20240924T040402Z
LAST-MODIFIED:20240924T041059Z
UID:8494-1727740800-1728259199@www.northernskiteam.co.nz
SUMMARY:The Remarkables - October Holiday Camp
DESCRIPTION:APPLICATIONS NOW OPEN! \n\n\n\nFor full information and applications\, please visit our 2024 October School Holiday Camp
URL:https://www.northernskiteam.co.nz/calendar/the-remarkables-october-holiday-camp-2/
CATEGORIES:South Island
END:VEVENT
BEGIN:VEVENT
DTSTART;TZID=Pacific/Auckland:20250105T000000
DTEND;TZID=Pacific/Auckland:20250125T235959
DTSTAMP:20260426T044212
CREATED:20240901T064642Z
LAST-MODIFIED:20240902T072030Z
UID:8362-1736035200-1737849599@www.northernskiteam.co.nz
SUMMARY:January 2025 Canada Camp @ Panorama Mountain Resort
DESCRIPTION:Please click on the link below for full information on our January 2025 Panorama training camp\, including ‘how to register‘! \n\n\n\n\n\n\nVIEW FULL INFO
URL:https://www.northernskiteam.co.nz/calendar/january-2025-canada-camp-panorama-mountain-resort/
CATEGORIES:International
ATTACH;FMTTYPE=image/webp:https://www.northernskiteam.co.nz/wp-content/uploads/2024/09/January-2025-Panorama-Camp.webp
END:VEVENT
BEGIN:VEVENT
DTSTART;TZID=Pacific/Auckland:20250629T000000
DTEND;TZID=Pacific/Auckland:20250720T235959
DTSTAMP:20260426T044212
CREATED:20250426T214436Z
LAST-MODIFIED:20250427T011800Z
UID:8580-1751155200-1753055999@www.northernskiteam.co.nz
SUMMARY:2025 July Holidays Race Camp
DESCRIPTION:For full information\, please see our 2025 July Holidays Race Camp page.
URL:https://www.northernskiteam.co.nz/calendar/2025-july-holidays-race-camp/
CATEGORIES:South Island
ATTACH;FMTTYPE=image/png:https://www.northernskiteam.co.nz/wp-content/uploads/2025/04/2025-July-Holidays-Camp.png
END:VEVENT
BEGIN:VEVENT
DTSTART;TZID=Pacific/Auckland:20250823T000000
DTEND;TZID=Pacific/Auckland:20250824T235959
DTSTAMP:20260426T044212
CREATED:20250820T061005Z
LAST-MODIFIED:20250820T061009Z
UID:8754-1755907200-1756079999@www.northernskiteam.co.nz
SUMMARY:2025 NIPS (Training Days)
DESCRIPTION:Northern Ski Team are offering on-mountain training opportunities for athletes on Saturday 21st & Sunday 24th August at WHAKAPAPA.  \n\n\n\nThe coaching team will be lead by Nick Sheetz and Duane Barakat. \n\n\n\nKey Details: \n\n\n\n\nAthlete training fees: $155.00 per day\n\n\n\nWe have spaces for 12 athletes on Saturday (coached by Nick) and 24 athletes on Sunday (coached by Duane & Nick with the support of senior athletes)\n\n\n\nApproximate Schedule:\n\n8.30am: Meet at the Whakapapa Base Cafe\n\n\n\n9.00am: Upload the Gondola to the Knoll Ridge Cafe\n\n\n\n9.00am-11.00am: Morning training session\n\n\n\n11.00am-12.00pm: Lunch\n\n\n\n12.00pm-1.30pm: Afternoon training session\n\n\n\n\n\nThe weather\, snow and operational conditions will determine what training options are available to us. If there is the possibility to set a course\, then this will absolutely be our preference\, however there is no guarantee that this will be possible.\n\n\n\nOn completion of registration\, you will get an invitation from us to join our dedicated Heja group where we will share training updates.\n\n\n\n\nAthlete Eligibility \n\n\n\n\nRegistration for this training is for any athlete\, where their school team includes at least one registered Northern Ski Team athlete (the individual athletes do not all need to be Northern Ski Team athletes)\n\n\n\nPlease contact us if you have any questions about eligibility – theteam@northernskiteam.co.nz\n\n\n\n\n\n\n\n\nFull Event Information\n\n\n\nFull information can be found on the Whakapapa NIPS web page. \n\n\n\n\n\n\n\nCoaching Fees\n\n\n\n\n\nSaturday 23rd AugustLane Training Day @ Whakapapa$155.00Sunday 24th AugustLane Training Day @ Whakapapa$155.00\n\n\n\n\n\n\nRegister Now
URL:https://www.northernskiteam.co.nz/calendar/2025-nips-training-days/
CATEGORIES:Mt Ruapehu
ATTACH;FMTTYPE=image/png:https://www.northernskiteam.co.nz/wp-content/uploads/2025/08/2025-NIPS-Training-Days.png
END:VEVENT
BEGIN:VEVENT
DTSTART;TZID=Pacific/Auckland:20260104T000000
DTEND;TZID=Pacific/Auckland:20260124T235959
DTSTAMP:20260426T044212
CREATED:20250827T032601Z
LAST-MODIFIED:20250829T065238Z
UID:8808-1767484800-1769299199@www.northernskiteam.co.nz
SUMMARY:January 2026 Canada Camp @ Panorama Mountain Resort
DESCRIPTION:Please click on the link below for full information on our January 2026 Panorama training camp\, including ‘how to register‘! \n\n\n\n\n\n\nVIEW FULL INFO
URL:https://www.northernskiteam.co.nz/calendar/january-2026-canada-camp-panorama-mountain-resort/
CATEGORIES:International
END:VEVENT
END:VCALENDAR