BEGIN:VCALENDAR
VERSION:2.0
PRODID:-//Northern Ski Team - ECPv6.15.20//NONSGML v1.0//EN
CALSCALE:GREGORIAN
METHOD:PUBLISH
X-WR-CALNAME:Northern Ski Team
X-ORIGINAL-URL:https://www.northernskiteam.co.nz
X-WR-CALDESC:Events for Northern Ski Team
REFRESH-INTERVAL;VALUE=DURATION:PT1H
X-Robots-Tag:noindex
X-PUBLISHED-TTL:PT1H
BEGIN:VTIMEZONE
TZID:Pacific/Auckland
BEGIN:STANDARD
TZOFFSETFROM:+1300
TZOFFSETTO:+1200
TZNAME:NZST
DTSTART:20190406T140000
END:STANDARD
BEGIN:DAYLIGHT
TZOFFSETFROM:+1200
TZOFFSETTO:+1300
TZNAME:NZDT
DTSTART:20190928T140000
END:DAYLIGHT
BEGIN:STANDARD
TZOFFSETFROM:+1300
TZOFFSETTO:+1200
TZNAME:NZST
DTSTART:20200404T140000
END:STANDARD
BEGIN:DAYLIGHT
TZOFFSETFROM:+1200
TZOFFSETTO:+1300
TZNAME:NZDT
DTSTART:20200926T140000
END:DAYLIGHT
BEGIN:STANDARD
TZOFFSETFROM:+1300
TZOFFSETTO:+1200
TZNAME:NZST
DTSTART:20210403T140000
END:STANDARD
BEGIN:DAYLIGHT
TZOFFSETFROM:+1200
TZOFFSETTO:+1300
TZNAME:NZDT
DTSTART:20210925T140000
END:DAYLIGHT
END:VTIMEZONE
BEGIN:VEVENT
DTSTART;TZID=Pacific/Auckland:20200321T160000
DTEND;TZID=Pacific/Auckland:20200321T190000
DTSTAMP:20260425T234306
CREATED:20200210T075527Z
LAST-MODIFIED:20200219T192114Z
UID:5073-1584806400-1584817200@www.northernskiteam.co.nz
SUMMARY:2020 Snowplanet Summer Series - Kombi Race
DESCRIPTION:Event 1: Sat 22nd Feb – Super G RaceEvent 2: Sat 7 Mar – Rail Jam (Freestyle)Event 3: Sat 21 Mar – Kombi RaceEvent 4: Sat 4 Apr – GS Race  \nThe third event of the Snowplanet Summer series proves to challenge our athletes with a Kombi course set\, much the same as the course sets used across New Zealand at Junior Interfield race events… and not too different from our Tuesday/Wednesday night training courses. \nAge Groups:2020 age groups based on year of birth are as follows:– Under 8: Year of birth = 2013 and later– Under 10: Year of birth = 2011/2012– Under 12: Year of birth = 2009/2010– Under 14: Year of birth = 2007/2008– Under 16: Year of birth = 2005/2006– Open: Year of birth = 2004 and earlier \nRegistration:Register via Snowplanet at the following link or at Snowplanet Front Desk – https://365summerseries2020e3.eventdesq.com/ \nSingle Event:– $30 for members– $60 for non-members \nTimes:– 4.00pm – 4.30pm: Bib collection– 4.45pm: Racers’ briefing– 5.00pm: Race start– 6.30pm (approx.): Prize-giving– 7.00pm (approx.): Event end
URL:https://www.northernskiteam.co.nz/calendar/2020-snowplanet-summer-series-kombi-race/
LOCATION:Snowplanet\, 91 Small Road\, Auckland\, 0992\, New Zealand
CATEGORIES:Snowplanet
ATTACH;FMTTYPE=image/png:https://www.northernskiteam.co.nz/wp-content/uploads/2020/02/Summer-Series-Web-Banners_SuperG-2.png
END:VEVENT
BEGIN:VEVENT
DTSTART;TZID=Pacific/Auckland:20200307T160000
DTEND;TZID=Pacific/Auckland:20200307T190000
DTSTAMP:20260425T234306
CREATED:20200210T052127Z
LAST-MODIFIED:20200213T063010Z
UID:5066-1583596800-1583607600@www.northernskiteam.co.nz
SUMMARY:2020 Snowplanet Summer Series - Rail Jam
DESCRIPTION:Event 1: Sat 22nd Feb – Super G RaceEvent 2: Sat 7 Mar – Rail Jam (Freestyle)Event 3: Sat 21 Mar – Kombi RaceEvent 4: Sat 4 Apr – GS Race  \nStrictly speaking\, this event does fall within our domain as a ‘ski race’ team\, however there’s no harm done in giving those freestylers a run for their money… but you’re maybe best to bring out an old pair of skis for this event (keep those new race skis at home and away from the rails!) \nAge Groups:2020 age groups based on year of birth are as follows:– Under 8: Year of birth = 2013 and later– Under 10: Year of birth = 2011/2012– Under 12: Year of birth = 2009/2010– Under 14: Year of birth = 2007/2008– Under 16: Year of birth = 2005/2006– Open: Year of birth = 2004 and earlier \nRegistration:Register via Snowplanet at the following link or at Snowplanet Front Desk – https://365summerseries2020e2.eventdesq.com/ \nSingle Event:– $30 for members– $60 for non-members \nTimes:– 4.00pm – 4.30pm: Bib collection– 4.45pm: Competitors’ briefing– 5.00pm: Event start– 6.30pm (approx.): Prize-giving– 7.00pm (approx.): Event end \nRegister via Snowplanet at the following link – https://365summerseries2020e2.eventdesq.com/
URL:https://www.northernskiteam.co.nz/calendar/2020-snowplanet-summer-series-rail-jam/
LOCATION:Snowplanet\, 91 Small Road\, Auckland\, 0992\, New Zealand
CATEGORIES:Snowplanet
ATTACH;FMTTYPE=image/png:https://www.northernskiteam.co.nz/wp-content/uploads/2020/02/Summer-Series-Web-Banners_SuperG-1.png
END:VEVENT
BEGIN:VEVENT
DTSTART;TZID=Pacific/Auckland:20200222T160000
DTEND;TZID=Pacific/Auckland:20200222T190000
DTSTAMP:20260425T234306
CREATED:20200210T051522Z
LAST-MODIFIED:20200213T062925Z
UID:5061-1582387200-1582398000@www.northernskiteam.co.nz
SUMMARY:2020 Snowplanet Summer Series - Super G Race
DESCRIPTION:Event 1: Sat 22nd Feb – Super G RaceEvent 2: Sat 7 Mar – Rail Jam (Freestyle)Event 3: Sat 21 Mar – Kombi RaceEvent 4: Sat 4 Apr – GS Race  \nThe first event of the Snowplanet Summer Series\, the Super G event promises to be a super fast course so you can start of the year in the best way possible! \nAge Groups:2020 age groups based on year of birth are as follows:– Under 8: Year of birth = 2013 and later– Under 10: Year of birth = 2011/2012– Under 12: Year of birth = 2009/2010– Under 14: Year of birth = 2007/2008– Under 16: Year of birth = 2005/2006– Open: Year of birth = 2004 and earlier \nRegistration:Register via Snowplanet at the following link or at Snowplanet Front Desk – https://365summerseries2020.eventdesq.com/ \nSingle Event:– $30 for members– $60 for non-membersSummer Series Entry (all 4 events for the price of 3):– $90 for members– $180 for non-members \nTimes:– 4.00pm – 4.30pm: Bib collection– 4.45pm: Racers’ briefing– 5.00pm: Race start– 6.30pm (approx.): Prize-giving– 7.00pm (approx.): Event end
URL:https://www.northernskiteam.co.nz/calendar/2020-snowplanet-summer-series-super-g-race/
LOCATION:Snowplanet\, 91 Small Road\, Auckland\, 0992\, New Zealand
CATEGORIES:Snowplanet
ATTACH;FMTTYPE=image/png:https://www.northernskiteam.co.nz/wp-content/uploads/2020/02/Summer-Series-Web-Banners_SuperG.png
END:VEVENT
END:VCALENDAR