BEGIN:VCALENDAR
VERSION:2.0
PRODID:-//Northern Ski Team - ECPv6.15.20//NONSGML v1.0//EN
CALSCALE:GREGORIAN
METHOD:PUBLISH
X-ORIGINAL-URL:https://www.northernskiteam.co.nz
X-WR-CALDESC:Events for Northern Ski Team
REFRESH-INTERVAL;VALUE=DURATION:PT1H
X-Robots-Tag:noindex
X-PUBLISHED-TTL:PT1H
BEGIN:VTIMEZONE
TZID:Pacific/Auckland
BEGIN:STANDARD
TZOFFSETFROM:+1300
TZOFFSETTO:+1200
TZNAME:NZST
DTSTART:20250405T140000
END:STANDARD
BEGIN:DAYLIGHT
TZOFFSETFROM:+1200
TZOFFSETTO:+1300
TZNAME:NZDT
DTSTART:20250927T140000
END:DAYLIGHT
BEGIN:STANDARD
TZOFFSETFROM:+1300
TZOFFSETTO:+1200
TZNAME:NZST
DTSTART:20260404T140000
END:STANDARD
BEGIN:DAYLIGHT
TZOFFSETFROM:+1200
TZOFFSETTO:+1300
TZNAME:NZDT
DTSTART:20260926T140000
END:DAYLIGHT
BEGIN:STANDARD
TZOFFSETFROM:+1300
TZOFFSETTO:+1200
TZNAME:NZST
DTSTART:20270403T140000
END:STANDARD
BEGIN:DAYLIGHT
TZOFFSETFROM:+1200
TZOFFSETTO:+1300
TZNAME:NZDT
DTSTART:20270925T140000
END:DAYLIGHT
END:VTIMEZONE
BEGIN:VEVENT
DTSTART;TZID=Pacific/Auckland:20260104T000000
DTEND;TZID=Pacific/Auckland:20260124T235959
DTSTAMP:20260426T092405
CREATED:20250827T032601Z
LAST-MODIFIED:20250829T065238Z
UID:8808-1767484800-1769299199@www.northernskiteam.co.nz
SUMMARY:January 2026 Canada Camp @ Panorama Mountain Resort
DESCRIPTION:Please click on the link below for full information on our January 2026 Panorama training camp\, including ‘how to register‘! \n\n\n\n\n\n\nVIEW FULL INFO
URL:https://www.northernskiteam.co.nz/calendar/january-2026-canada-camp-panorama-mountain-resort/
CATEGORIES:International
END:VEVENT
END:VCALENDAR