BEGIN:VCALENDAR
VERSION:2.0
PRODID:-//Northern Ski Team - ECPv6.15.20//NONSGML v1.0//EN
CALSCALE:GREGORIAN
METHOD:PUBLISH
X-WR-CALNAME:Northern Ski Team
X-ORIGINAL-URL:https://www.northernskiteam.co.nz
X-WR-CALDESC:Events for Northern Ski Team
REFRESH-INTERVAL;VALUE=DURATION:PT1H
X-Robots-Tag:noindex
X-PUBLISHED-TTL:PT1H
BEGIN:VTIMEZONE
TZID:Pacific/Auckland
BEGIN:STANDARD
TZOFFSETFROM:+1300
TZOFFSETTO:+1200
TZNAME:NZST
DTSTART:20190406T140000
END:STANDARD
BEGIN:DAYLIGHT
TZOFFSETFROM:+1200
TZOFFSETTO:+1300
TZNAME:NZDT
DTSTART:20190928T140000
END:DAYLIGHT
BEGIN:STANDARD
TZOFFSETFROM:+1300
TZOFFSETTO:+1200
TZNAME:NZST
DTSTART:20200404T140000
END:STANDARD
BEGIN:DAYLIGHT
TZOFFSETFROM:+1200
TZOFFSETTO:+1300
TZNAME:NZDT
DTSTART:20200926T140000
END:DAYLIGHT
BEGIN:STANDARD
TZOFFSETFROM:+1300
TZOFFSETTO:+1200
TZNAME:NZST
DTSTART:20210403T140000
END:STANDARD
BEGIN:DAYLIGHT
TZOFFSETFROM:+1200
TZOFFSETTO:+1300
TZNAME:NZDT
DTSTART:20210925T140000
END:DAYLIGHT
END:VTIMEZONE
BEGIN:VEVENT
DTSTART;TZID=Pacific/Auckland:20200404T160000
DTEND;TZID=Pacific/Auckland:20200404T190000
DTSTAMP:20260425T151912
CREATED:20200210T080036Z
LAST-MODIFIED:20200213T064029Z
UID:5075-1586016000-1586026800@www.northernskiteam.co.nz
SUMMARY:2020 Snowplanet Summer Series - GS Race
DESCRIPTION:Event 1: Sat 22nd Feb – Super G RaceEvent 2: Sat 7 Mar – Rail Jam (Freestyle)Event 3: Sat 21 Mar – Kombi RaceEvent 4: Sat 4 Apr – GS Race  \nThe fourth and final event of the Snowplanet Summer series will see us off with a nice rhythmic GS course (the ‘course with all the flags’). This is the same course set as skied at the North Island Primary/Intermediate/Secondary School champs\, so therefore a real favourite among the athletes. \nAge Groups:2020 age groups based on year of birth are as follows:– Under 8: Year of birth = 2013 and later– Under 10: Year of birth = 2011/2012– Under 12: Year of birth = 2009/2010– Under 14: Year of birth = 2007/2008– Under 16: Year of birth = 2005/2006– Open: Year of birth = 2004 and earlier \nRegistration:Register via Snowplanet at the following link or at Snowplanet Front Desk – https://365summerseries2020e4.eventdesq.com/ \nSingle Event:– $30 for members– $60 for non-members \nTimes:– 4.00pm – 4.30pm: Bib collection– 4.45pm: Racers’ briefing– 5.00pm: Race start– 6.30pm (approx.): Prize-giving– 7.00pm (approx.): Event end
URL:https://www.northernskiteam.co.nz/calendar/2020-snowplanet-summer-series-gs-race/
LOCATION:Snowplanet\, 91 Small Road\, Auckland\, 0992\, New Zealand
CATEGORIES:Snowplanet
ATTACH;FMTTYPE=image/png:https://www.northernskiteam.co.nz/wp-content/uploads/2020/02/Summer-Series-Web-Banners_SuperG-3.png
END:VEVENT
END:VCALENDAR