BEGIN:VCALENDAR
VERSION:2.0
PRODID:-//Northern Ski Team - ECPv6.15.20//NONSGML v1.0//EN
CALSCALE:GREGORIAN
METHOD:PUBLISH
X-WR-CALNAME:Northern Ski Team
X-ORIGINAL-URL:https://www.northernskiteam.co.nz
X-WR-CALDESC:Events for Northern Ski Team
REFRESH-INTERVAL;VALUE=DURATION:PT1H
X-Robots-Tag:noindex
X-PUBLISHED-TTL:PT1H
BEGIN:VTIMEZONE
TZID:Pacific/Auckland
BEGIN:STANDARD
TZOFFSETFROM:+1300
TZOFFSETTO:+1200
TZNAME:NZST
DTSTART:20200404T140000
END:STANDARD
BEGIN:DAYLIGHT
TZOFFSETFROM:+1200
TZOFFSETTO:+1300
TZNAME:NZDT
DTSTART:20200926T140000
END:DAYLIGHT
BEGIN:STANDARD
TZOFFSETFROM:+1300
TZOFFSETTO:+1200
TZNAME:NZST
DTSTART:20210403T140000
END:STANDARD
BEGIN:DAYLIGHT
TZOFFSETFROM:+1200
TZOFFSETTO:+1300
TZNAME:NZDT
DTSTART:20210925T140000
END:DAYLIGHT
BEGIN:STANDARD
TZOFFSETFROM:+1300
TZOFFSETTO:+1200
TZNAME:NZST
DTSTART:20220402T140000
END:STANDARD
BEGIN:DAYLIGHT
TZOFFSETFROM:+1200
TZOFFSETTO:+1300
TZNAME:NZDT
DTSTART:20220924T140000
END:DAYLIGHT
END:VTIMEZONE
BEGIN:VEVENT
DTSTART;TZID=Pacific/Auckland:20210619T160000
DTEND;TZID=Pacific/Auckland:20210619T193000
DTSTAMP:20260425T084317
CREATED:20210404T203212Z
LAST-MODIFIED:20210617T082921Z
UID:5842-1624118400-1624131000@www.northernskiteam.co.nz
SUMMARY:2021 Auckland Points Series #2 - Snowplanet Junior Interfield I
DESCRIPTION:Race Format: \n\n\n\nKinder Kombi* (SL/GS Format)2 or 4 x runs (TBC) – Combined times\n\n\n\n\n\n\n\nWhat is Kinder Kombi?The Kinder Kombi or ‘Kombi’ is an event design to suit the developmental needs of the children’s age group(U12\, U14\, U16). The course should consist of a mixture of standard turns and gates and should help develop atactical awareness by blending sections of different gates in a flowing\, rhythmical\, constantly changing pattern.There can be two different forms of the Kombi: SL / GS Format (technical orientation)\, setting with GS gates orcoloured ground indicators and GS / SG Format (speed orientation)\, setting with GS and SG gates or colouredground indicators.Credit: Snow Sports NZ (www.snowsports.co.nz) \n\n\n\nAge Group Classifications:  \n\n\n\nU8 (Born in 2014 & later) U10 (Born in 2012/13) U12 (Born in 2010/11) U14 (Born in 2008/09) U16 (Born in 2006/07) Open (Born in 2005 & earlier)\n\n\n\nRace Day Schedule: \n\n\n\n4.00pm – Bib collection opens (Snowplanet main lobby)4.30pm – Athlete safety briefing (bottom of slope)4.45pm – Course inspection5.15pm – Race start\n\n\n\nRace Entry Price: \n\n\n\nSnowplanet Members = $30 Race entryNon-members = $60 Race entry including lift pass\n\n\n\nRegistrations: \n\n\n\nRegistrations for U8 – U16 open now via the Snow Sports NZ website (as this is a SSNZ sanctioned event)*All athletes are required to be a registered member of Snow Sports NZ. Registration is free for athletes aged under 16.Registrations for ‘Open’ category will be accepted at Snowplanet front desk onlyRegistrations close at midday on Saturday 19th June
URL:https://www.northernskiteam.co.nz/calendar/snowplanet-junior-interfield-1-2021-auckland-points-series-2/
CATEGORIES:Snowplanet
ATTACH;FMTTYPE=image/png:https://www.northernskiteam.co.nz/wp-content/uploads/2021/04/20210616_2021AucklandPointsRace2.png
END:VEVENT
BEGIN:VEVENT
DTSTART;TZID=Pacific/Auckland:20210626T160000
DTEND;TZID=Pacific/Auckland:20210626T193000
DTSTAMP:20260425T084317
CREATED:20210404T204759Z
LAST-MODIFIED:20210623T014828Z
UID:5849-1624723200-1624735800@www.northernskiteam.co.nz
SUMMARY:2021 Auckland Points Series #3 - Kinder Kombi
DESCRIPTION:Race Format: \n\n\n\n\n\n\n\nKinder Kombi* (SL/GS Format)3 x runs – Combined times\n\n\n\nWhat is Kinder Kombi?The Kinder Kombi or ‘Kombi’ is an event design to suit the developmental needs of the children’s age group(U12\, U14\, U16). The course should consist of a mixture of standard turns and gates and should help develop atactical awareness by blending sections of different gates in a flowing\, rhythmical\, constantly changing pattern.There can be two different forms of the Kombi: SL / GS Format (technical orientation)\, setting with GS gates orcoloured ground indicators and GS / SG Format (speed orientation)\, setting with GS and SG gates or colouredground indicators.Credit: Snow Sports NZ (www.snowsports.co.nz) \n\n\n\nAge Group Classifications:  \n\n\n\nU8 (Born in 2014 & later) U10 (Born in 2012/13) U12 (Born in 2010/11) U14 (Born in 2008/09) U16 (Born in 2006/07) Open (Born in 2005 & earlier)\n\n\n\nRace Day Schedule: \n\n\n\n4.00pm – Bib collection opens (Snowplanet main lobby)4.30pm – Athlete safety briefing (bottom of slope)4.45pm – Course inspection5.00pm – Race start\n\n\n\nRace Entry Price: \n\n\n\nSnowplanet Members = $30 Race entryNon-members = $60 Race entry including lift pass\n\n\n\nRegistrations: \n\n\n\nRegistrations open now via the Snowplanet websiteRegistrations close at midday on Saturday 26th June
URL:https://www.northernskiteam.co.nz/calendar/2021-auckland-points-series-3-kinder-kombi/
CATEGORIES:Snowplanet
ATTACH;FMTTYPE=image/png:https://www.northernskiteam.co.nz/wp-content/uploads/2021/06/20210616_2021AucklandPointsRace3.png
END:VEVENT
END:VCALENDAR