BEGIN:VCALENDAR
VERSION:2.0
PRODID:-//Northern Ski Team - ECPv6.15.20//NONSGML v1.0//EN
CALSCALE:GREGORIAN
METHOD:PUBLISH
X-ORIGINAL-URL:https://www.northernskiteam.co.nz
X-WR-CALDESC:Events for Northern Ski Team
REFRESH-INTERVAL;VALUE=DURATION:PT1H
X-Robots-Tag:noindex
X-PUBLISHED-TTL:PT1H
BEGIN:VTIMEZONE
TZID:Pacific/Auckland
BEGIN:STANDARD
TZOFFSETFROM:+1300
TZOFFSETTO:+1200
TZNAME:NZST
DTSTART:20200404T140000
END:STANDARD
BEGIN:DAYLIGHT
TZOFFSETFROM:+1200
TZOFFSETTO:+1300
TZNAME:NZDT
DTSTART:20200926T140000
END:DAYLIGHT
BEGIN:STANDARD
TZOFFSETFROM:+1300
TZOFFSETTO:+1200
TZNAME:NZST
DTSTART:20210403T140000
END:STANDARD
BEGIN:DAYLIGHT
TZOFFSETFROM:+1200
TZOFFSETTO:+1300
TZNAME:NZDT
DTSTART:20210925T140000
END:DAYLIGHT
BEGIN:STANDARD
TZOFFSETFROM:+1300
TZOFFSETTO:+1200
TZNAME:NZST
DTSTART:20220402T140000
END:STANDARD
BEGIN:DAYLIGHT
TZOFFSETFROM:+1200
TZOFFSETTO:+1300
TZNAME:NZDT
DTSTART:20220924T140000
END:DAYLIGHT
END:VTIMEZONE
BEGIN:VEVENT
DTSTART;TZID=Pacific/Auckland:20210710T000000
DTEND;TZID=Pacific/Auckland:20210725T235959
DTSTAMP:20260425T101730
CREATED:20201231T230614Z
LAST-MODIFIED:20210403T075132Z
UID:5573-1625875200-1627257599@www.northernskiteam.co.nz
SUMMARY:2021 July School Holiday Camp
DESCRIPTION:Click Here to view full information
URL:https://www.northernskiteam.co.nz/calendar/2021-july-school-holiday-camp/
CATEGORIES:South Island
ATTACH;FMTTYPE=image/jpeg:https://www.northernskiteam.co.nz/wp-content/uploads/2021/03/20200701_Porters.jpg
END:VEVENT
END:VCALENDAR