BEGIN:VCALENDAR
VERSION:2.0
PRODID:-//Northern Ski Team - ECPv6.15.20//NONSGML v1.0//EN
CALSCALE:GREGORIAN
METHOD:PUBLISH
X-ORIGINAL-URL:https://www.northernskiteam.co.nz
X-WR-CALDESC:Events for Northern Ski Team
REFRESH-INTERVAL;VALUE=DURATION:PT1H
X-Robots-Tag:noindex
X-PUBLISHED-TTL:PT1H
BEGIN:VTIMEZONE
TZID:Pacific/Auckland
BEGIN:STANDARD
TZOFFSETFROM:+1300
TZOFFSETTO:+1200
TZNAME:NZST
DTSTART:20210403T140000
END:STANDARD
BEGIN:DAYLIGHT
TZOFFSETFROM:+1200
TZOFFSETTO:+1300
TZNAME:NZDT
DTSTART:20210925T140000
END:DAYLIGHT
BEGIN:STANDARD
TZOFFSETFROM:+1300
TZOFFSETTO:+1200
TZNAME:NZST
DTSTART:20220402T140000
END:STANDARD
BEGIN:DAYLIGHT
TZOFFSETFROM:+1200
TZOFFSETTO:+1300
TZNAME:NZDT
DTSTART:20220924T140000
END:DAYLIGHT
BEGIN:STANDARD
TZOFFSETFROM:+1300
TZOFFSETTO:+1200
TZNAME:NZST
DTSTART:20230401T140000
END:STANDARD
BEGIN:DAYLIGHT
TZOFFSETFROM:+1200
TZOFFSETTO:+1300
TZNAME:NZDT
DTSTART:20230923T140000
END:DAYLIGHT
END:VTIMEZONE
BEGIN:VEVENT
DTSTART;TZID=Pacific/Auckland:20221001T000000
DTEND;TZID=Pacific/Auckland:20221008T235959
DTSTAMP:20260425T233541
CREATED:20220810T004439Z
LAST-MODIFIED:20240924T043215Z
UID:6595-1664582400-1665273599@www.northernskiteam.co.nz
SUMMARY:The Remarkables - October Holiday Camp
DESCRIPTION:APPLICATIONS NOW OPEN! \n\n\n\nFor full information and applications\, please visit our 2022 October Holidays Spring Camp
URL:https://www.northernskiteam.co.nz/calendar/the-remarkables-october-holiday-camp/
CATEGORIES:South Island
ATTACH;FMTTYPE=image/png:https://www.northernskiteam.co.nz/wp-content/uploads/2024/09/2024-October-school-holidays-camp.png
END:VEVENT
BEGIN:VEVENT
DTSTART;TZID=Pacific/Auckland:20221022T160000
DTEND;TZID=Pacific/Auckland:20221022T200000
DTSTAMP:20260425T233541
CREATED:20221014T195224Z
LAST-MODIFIED:20221014T195750Z
UID:6735-1666454400-1666468800@www.northernskiteam.co.nz
SUMMARY:2022 Snowplanet Indoor Slalom Championship
DESCRIPTION:Race Format: \n\n\n\nSlalomU8/U10/U12 – Stubby Slalom CourseU12/U14/U16/Open – 27mm Slalom Poles2 x runs – Combined times\n\n\n\nAge Group Classifications:  \n\n\n\nU8 (Born in 2015 & later) U10 (Born in 2013/14) U12 (Born in 2011/12) U14 (Born in 2009/10) U16 (Born in 2007/08) Open (Born in 2006 & earlier)\n\n\n\nRace Day Schedule: \n\n\n\n4.15pm – Bib collection opens (Snowplanet main lobby)4.40pm – Athlete safety briefing (bottom of slope)4.45pm – Course inspection5.15pm – Race start2nd run commences 15 mins after completion of run 1Prizegiving will be held 30 mins after completion of run 27.30pm – Approximate event completion time\n\n\n\nRace Entry Price: \n\n\n\nSnowplanet Members = $30 Race entryNon-members = $60 Race entry including lift pass\n\n\n\nRegistrations: \n\n\n\nRegistrations for U8 – U16 open now via the Snow Sports NZ website (as this is a SSNZ sanctioned event)*All athletes are required to be a registered member of Snow Sports NZ. Registration is free for athletes aged under 16.Registrations for ‘Open’ category will be accepted at Snowplanet front desk onlyRegistrations close at midday on Saturday 22nd October
URL:https://www.northernskiteam.co.nz/calendar/2022-snowplanet-indoor-slalom-championship/
LOCATION:Snowplanet\, 91 Small Road\, Auckland\, 0992\, New Zealand
CATEGORIES:Snowplanet
END:VEVENT
BEGIN:VEVENT
DTSTART;TZID=Pacific/Auckland:20221029T160000
DTEND;TZID=Pacific/Auckland:20221029T200000
DTSTAMP:20260425T233541
CREATED:20221014T195605Z
LAST-MODIFIED:20221014T195614Z
UID:6737-1667059200-1667073600@www.northernskiteam.co.nz
SUMMARY:2022 Snowplanet Junior Interfield #2
DESCRIPTION:Race Format: \n\n\n\nKinder Kombi* (SL/GS Format)2 x runs – Combined times\n\n\n\nWhat is Kinder Kombi?The Kinder Kombi or ‘Kombi’ is an event design to suit the developmental needs of the children’s age group(U12\, U14\, U16). The course should consist of a mixture of standard turns and gates and should help develop atactical awareness by blending sections of different gates in a flowing\, rhythmical\, constantly changing pattern.There can be two different forms of the Kombi: SL / GS Format (technical orientation)\, setting with GS gates orcoloured ground indicators and GS / SG Format (speed orientation)\, setting with GS and SG gates or colouredground indicators.Credit: Snow Sports NZ (www.snowsports.co.nz) \n\n\n\nAge Group Classifications:  \n\n\n\nU8 (Born in 2015 & later) U10 (Born in 2013/14) U12 (Born in 2011/12) U14 (Born in 2009/10) U16 (Born in 2007/08) Open (Born in 2006 & earlier)\n\n\n\nRace Day Schedule: \n\n\n\n4.15pm – Bib collection opens (Snowplanet main lobby)4.40pm – Athlete safety briefing (bottom of slope)4.45pm – Course inspection5.15pm – Race start2nd run commences 15 mins after completion of run 1Prizegiving will be held 30 mins after completion of run 27.30pm – Approximate event completion time\n\n\n\nRace Entry Price: \n\n\n\nSnowplanet Members = $30 Race entryNon-members = $60 Race entry including lift pass\n\n\n\nRegistrations: \n\n\n\nRegistrations for U8 – U16 open now via the Snow Sports NZ website (as this is a SSNZ sanctioned event)*All athletes are required to be a registered member of Snow Sports NZ. Registration is free for athletes aged under 16.Registrations for ‘Open’ category will be accepted at Snowplanet front desk onlyRegistrations close at midday on Saturday 29th October
URL:https://www.northernskiteam.co.nz/calendar/2022-snowplanet-junior-interfield-2/
LOCATION:Snowplanet\, 91 Small Road\, Auckland\, 0992\, New Zealand
CATEGORIES:Snowplanet
END:VEVENT
END:VCALENDAR